BEGIN:VCALENDAR
VERSION:2.0
PRODID:-//Intermission Beer Company - ECPv6.15.15//NONSGML v1.0//EN
CALSCALE:GREGORIAN
METHOD:PUBLISH
X-WR-CALNAME:Intermission Beer Company
X-ORIGINAL-URL:https://www.intermissionbeer.com
X-WR-CALDESC:Events for Intermission Beer Company
REFRESH-INTERVAL;VALUE=DURATION:PT1H
X-Robots-Tag:noindex
X-PUBLISHED-TTL:PT1H
BEGIN:VTIMEZONE
TZID:America/New_York
BEGIN:DAYLIGHT
TZOFFSETFROM:-0500
TZOFFSETTO:-0400
TZNAME:EDT
DTSTART:20250309T070000
END:DAYLIGHT
BEGIN:STANDARD
TZOFFSETFROM:-0400
TZOFFSETTO:-0500
TZNAME:EST
DTSTART:20251102T060000
END:STANDARD
BEGIN:DAYLIGHT
TZOFFSETFROM:-0500
TZOFFSETTO:-0400
TZNAME:EDT
DTSTART:20260308T070000
END:DAYLIGHT
BEGIN:STANDARD
TZOFFSETFROM:-0400
TZOFFSETTO:-0500
TZNAME:EST
DTSTART:20261101T060000
END:STANDARD
BEGIN:DAYLIGHT
TZOFFSETFROM:-0500
TZOFFSETTO:-0400
TZNAME:EDT
DTSTART:20270314T070000
END:DAYLIGHT
BEGIN:STANDARD
TZOFFSETFROM:-0400
TZOFFSETTO:-0500
TZNAME:EST
DTSTART:20271107T060000
END:STANDARD
END:VTIMEZONE
BEGIN:VEVENT
DTSTART;TZID=America/New_York:20260419T160000
DTEND;TZID=America/New_York:20260419T180000
DTSTAMP:20260421T042526
CREATED:20251229T184941Z
LAST-MODIFIED:20251229T184941Z
UID:8368-1776614400-1776621600@www.intermissionbeer.com
SUMMARY:Books & Brews
DESCRIPTION:You like books? You like beer? We talk about books and drink beer every 1st & 3rd Sunday at 4:00 at Intermission Beer Company! No assigned reading – It’s like a book “Show & Tell”! \nBooks & Brews – Book Club Facebook group: https://www.facebook.com/groups/1180192395456264 \nCheck out our Little Free Library: https://www.facebook.com/LFL84542 \nAre you an author that would like to join us to talk about your book or writing? If so\, click on this link and submit the form. https://www.intermissionbeer.com/local-author/
URL:https://www.intermissionbeer.com/event/books-brews-23/
LOCATION:10089 Brook Road\, Unit A\, Glen Allen\, VA\, United States\, Virginia 23059
ATTACH;FMTTYPE=image/jpeg:https://www.intermissionbeer.com/wp-content/uploads/2025/12/8351_image_605061979_1533772844964240_711429472298127868_n.jpg
END:VEVENT
END:VCALENDAR